BEGIN:VCALENDAR
VERSION:2.0
CREATED:20260327T130353Z
PRODID:-//Ardagh Metal Packaging S.A./Equisolve Calendar v1.0//EN
METHOD:PUBLISH
BEGIN:VEVENT
UID:bf2142d6e464ac7d283f491697a4af3f
DTSTAMP:20260420T124206Z
DTSTART:20260423T120000Z
DTEND:20260423T130000Z
SUMMARY:First Quarter 2026 Earnings Webcast and Conference Call
DESCRIPTION:First Quarter 2026 Earnings Webcast and Conference Call\nDate: Apr 23\, 2026 8:00 am EDT\nWebcast: https://event.webcasts.com/starthere.jsp?ei=1756471&tp_key=9304d31a1f
END:VEVENT
END:VCALENDAR
